BEGIN:VCALENDAR
VERSION:2.0
PRODID:-//Tukios.com/
BEGIN:VEVENT
UID:3ae137eb-0203-4580-a0e4-382d2230a157@www.rembsfh.com
DTSTAMP:20260420T060401Z
DTSTART:20260607T170000Z
DTEND:20260607T210000Z
SUMMARY:Celebration of Life
DESCRIPTION:
URL:https://www.rembsfh.com/obituaries/william-bill-wehe
LOCATION: 250 S Oak Ave  Marshfield WI 54449
GEO:44.6679566;-90.1822963
END:VEVENT
END:VCALENDAR