BEGIN:VCALENDAR
VERSION:2.0
PRODID:-//Tukios.com/
BEGIN:VEVENT
UID:f1c80591-51ad-4652-a5ff-0add155b0131@www.rembsfh.com
DTSTAMP:20260421T234123Z
DTSTART:20260425T160000Z
DTEND:20260425T170000Z
SUMMARY:Mass
DESCRIPTION:
URL:https://www.rembsfh.com/obituaries/steven-p-selz
LOCATION: 1414 West 5th Street  Marshfield WI 54449
GEO:44.6658715;-90.1948811
END:VEVENT
END:VCALENDAR