BEGIN:VCALENDAR
VERSION:2.0
PRODID:-//Tukios.com/
BEGIN:VEVENT
UID:f4263d73-60cb-4477-9245-d619705d8878@www.rembsfh.com
DTSTAMP:20260421T233923Z
DTSTART:20260425T150000Z
DTEND:20260425T160000Z
SUMMARY:Visitation
DESCRIPTION:
URL:https://www.rembsfh.com/obituaries/steven-p-selz
LOCATION: 1414 West 5th Street  Marshfield WI 54449
GEO:44.6658715;-90.1948811
END:VEVENT
END:VCALENDAR