BEGIN:VCALENDAR
VERSION:2.0
PRODID:-//Tukios.com/
BEGIN:VEVENT
UID:e4b6980d-d144-474e-965c-792ef74becdd@www.rembsfh.com
DTSTAMP:20260421T234040Z
DTSTART:20260424T210000Z
DTEND:20260425T000000Z
SUMMARY:Visitation
DESCRIPTION:
URL:https://www.rembsfh.com/obituaries/steven-p-selz
LOCATION: 300 S Oak Ave  Marshfield WI 54449
GEO:44.6674956;-90.1822815
END:VEVENT
END:VCALENDAR