BEGIN:VCALENDAR
VERSION:2.0
PRODID:-//Tukios.com/
BEGIN:VEVENT
UID:80cd7524-d56f-4bd6-a7a8-7e8c21aa9e79@www.rembsfh.com
DTSTAMP:20260420T082425Z
DTSTART:20260421T160000Z
DTEND:20260421T170000Z
SUMMARY:Memorial Service
DESCRIPTION:
URL:https://www.rembsfh.com/obituaries/raymond-fait
LOCATION: 300 South Oak Avenue  Marshfield WI 54449
GEO:44.6674956;-90.1822815
END:VEVENT
END:VCALENDAR