BEGIN:VCALENDAR
VERSION:2.0
PRODID:-//Tukios.com/
BEGIN:VEVENT
UID:9cf2b724-4a4b-40b3-9db7-9cf2bd9455b0@www.rembsfh.com
DTSTAMP:20260423T023316Z
DTSTART:20260430T140000Z
DTEND:20260430T160000Z
SUMMARY:Visitation
DESCRIPTION:
URL:https://www.rembsfh.com/obituaries/duane-duke-c-schueller
LOCATION: 201 West Blodgett Street  Marshfield WI 54449
GEO:44.6705911;-90.1736058
END:VEVENT
END:VCALENDAR