BEGIN:VCALENDAR
VERSION:2.0
PRODID:-//Tukios.com/
BEGIN:VEVENT
UID:15ebed19-4447-43e4-8cc2-d66b47aefa18@www.rembsfh.com
DTSTAMP:20260423T023316Z
DTSTART:20260430T160000Z
DTEND:20260430T170000Z
SUMMARY:Mass
DESCRIPTION:
URL:https://www.rembsfh.com/obituaries/duane-duke-c-schueller
LOCATION: 201 West Blodgett Street  Marshfield WI 54449
GEO:44.6705911;-90.1736058
END:VEVENT
END:VCALENDAR